BEGIN:VCALENDAR
VERSION:2.0
PRODID:-//AfD Kreisverband Osnabrück - ECPv6.15.20//NONSGML v1.0//EN
CALSCALE:GREGORIAN
METHOD:PUBLISH
X-ORIGINAL-URL:https://afdosnabrueck.de
X-WR-CALDESC:Veranstaltungen für AfD Kreisverband Osnabrück
REFRESH-INTERVAL;VALUE=DURATION:PT1H
X-Robots-Tag:noindex
X-PUBLISHED-TTL:PT1H
BEGIN:VTIMEZONE
TZID:Europe/Berlin
BEGIN:DAYLIGHT
TZOFFSETFROM:+0100
TZOFFSETTO:+0200
TZNAME:CEST
DTSTART:20210328T010000
END:DAYLIGHT
BEGIN:STANDARD
TZOFFSETFROM:+0200
TZOFFSETTO:+0100
TZNAME:CET
DTSTART:20211031T010000
END:STANDARD
BEGIN:DAYLIGHT
TZOFFSETFROM:+0100
TZOFFSETTO:+0200
TZNAME:CEST
DTSTART:20220327T010000
END:DAYLIGHT
BEGIN:STANDARD
TZOFFSETFROM:+0200
TZOFFSETTO:+0100
TZNAME:CET
DTSTART:20221030T010000
END:STANDARD
BEGIN:DAYLIGHT
TZOFFSETFROM:+0100
TZOFFSETTO:+0200
TZNAME:CEST
DTSTART:20230326T010000
END:DAYLIGHT
BEGIN:STANDARD
TZOFFSETFROM:+0200
TZOFFSETTO:+0100
TZNAME:CET
DTSTART:20231029T010000
END:STANDARD
BEGIN:DAYLIGHT
TZOFFSETFROM:+0100
TZOFFSETTO:+0200
TZNAME:CEST
DTSTART:20240331T010000
END:DAYLIGHT
BEGIN:STANDARD
TZOFFSETFROM:+0200
TZOFFSETTO:+0100
TZNAME:CET
DTSTART:20241027T010000
END:STANDARD
BEGIN:DAYLIGHT
TZOFFSETFROM:+0100
TZOFFSETTO:+0200
TZNAME:CEST
DTSTART:20250330T010000
END:DAYLIGHT
BEGIN:STANDARD
TZOFFSETFROM:+0200
TZOFFSETTO:+0100
TZNAME:CET
DTSTART:20251026T010000
END:STANDARD
BEGIN:DAYLIGHT
TZOFFSETFROM:+0100
TZOFFSETTO:+0200
TZNAME:CEST
DTSTART:20260329T010000
END:DAYLIGHT
BEGIN:STANDARD
TZOFFSETFROM:+0200
TZOFFSETTO:+0100
TZNAME:CET
DTSTART:20261025T010000
END:STANDARD
END:VTIMEZONE
BEGIN:VEVENT
DTSTART;TZID=Europe/Berlin:20250822T190000
DTEND;TZID=Europe/Berlin:20250822T210000
DTSTAMP:20260421T035350
CREATED:20250703T115842Z
LAST-MODIFIED:20250703T120559Z
UID:14400-1755889200-1755896400@afdosnabrueck.de
SUMMARY:Die politische Kraft von Bitcoin - Vortrag von MdB Dirk Brandes
DESCRIPTION:Liebe Mitglieder\, Förderer und Interessenten der AfD Osnabrück-Land\, \nBitcoin ist die erste und bekannteste Kryptowährung der Welt. Seit seiner Einführung im Jahr 2009 durch den pseudonymen Entwickler Satoshi Nakamoto hat Bitcoin die Welt der Finanzen grundlegend verändert. Als dezentrales\, digitales Geldsystem ermöglicht er globale Transaktionen ohne Zwischeninstanzen wie Banken oder Zentralbanken. Dabei basiert Bitcoin auf der Blockchain-Technologie\, die maximale Transparenz\, Fälschungssicherheit und Unabhängigkeit garantiert. \nDer begrenzte Vorrat von 21 Millionen Bitcoins macht ihn inflationsresistent – ein Gegenentwurf zu klassischen Fiatwährungen\, die beliebig vermehrt werden können. In Zeiten wachsender wirtschaftlicher Unsicherheit wird Bitcoin zunehmend als digitales Gold betrachtet: ein Wertspeicher\, der sowohl von privaten als auch institutionellen Anlegern geschätzt wird. \nBitcoin fördert finanzielle Selbstbestimmung\, eröffnet Menschen weltweit – auch ohne Zugang zu traditionellen Bankensystemen – neue ökonomische Möglichkeiten und steht für ein neues\, freies und digitales Geldverständnis. \nDer niedersächsische Bundestagsabgeordnete Dirk Brandes lädt Sie dazu im Südkreis Osnabrück zu einem Fachvortrag ein. Diese findet statt am 22.08.2025 um 19:00 Uhr. \nInteressenten werden um Anmeldung gebeten: info@afdosnabrueck.de
URL:https://afdosnabrueck.de/veranstaltung/die-politische-kraft-von-bitcoin-vortrag-von-mdb-dirk-brandes/
CATEGORIES:Vorträge
ATTACH;FMTTYPE=image/jpeg:https://afdosnabrueck.de/wp-content/uploads/2025/07/fda36bf3-c4f9-45ee-b10b-101dc5f01589-scaled.jpg
ORGANIZER;CN="AfD Kreisverband Osnabr%C3%BCck":MAILTO:info@afdosnabrueck.de
END:VEVENT
BEGIN:VEVENT
DTSTART;TZID=Europe/Berlin:20230714T190000
DTEND;TZID=Europe/Berlin:20230714T210000
DTSTAMP:20260421T035350
CREATED:20230710T092400Z
LAST-MODIFIED:20230710T092400Z
UID:14083-1689361200-1689368400@afdosnabrueck.de
SUMMARY:Einladung zum Stammtisch der AfD Osnabrück
DESCRIPTION:Sehr geehrte Mitglieder\, Förderer und Freunde der AfD Osnabrück\, \nam Freitag\, den 14. Juli 2023 findet um 19:00 Uhr wieder der Stammtisch des Kreisverbandes Osnabrück statt. Dieser wird diesmal in Belm\, Landkreis Osnabrück stattfinden. \nAls Gäste werden neben dem Kreisvorsitzenden\, Marcel Queckemeyer\, MdL\, der Bundestagsabgeordnete und Kreisvorsitzende der AfD Hannover\, Jörn König\, MdB zugegen sein. \nAus organisatorischen Gründen und begrenztem Platzangebot besteht eine Anmeldepflicht unter info@afdosnabrueck.de. \nNach Eingang Ihrer Anmeldung erhalten Sie von uns eine Anmeldebestätigung\, mit Adresse der Lokalität. Über Ihre Teilnahme wären wir sehr erfreut.
URL:https://afdosnabrueck.de/veranstaltung/einladung-zum-stammtisch-der-afd-osnabrueck/
CATEGORIES:Bürgerstammtisch
ATTACH;FMTTYPE=image/png:https://afdosnabrueck.de/wp-content/uploads/2023/07/Stammtisch-Juli-KV-OS.png
ORGANIZER;CN="AfD Kreisverband Osnabr%C3%BCck":MAILTO:info@afdosnabrueck.de
END:VEVENT
BEGIN:VEVENT
DTSTART;TZID=Europe/Berlin:20230712T183000
DTEND;TZID=Europe/Berlin:20230712T213000
DTSTAMP:20260421T035350
CREATED:20230710T091630Z
LAST-MODIFIED:20230710T091630Z
UID:14080-1689186600-1689197400@afdosnabrueck.de
SUMMARY:Einladung AfD Infoabend (Ortsverband Osnabrück-Stadt)
DESCRIPTION:Sehr geehrte Mitglieder und Interessierte\,\n\nam 12.07.2023 ab 18.45 Uhr findet unser nächster Infoabend statt.\nDas Thema des Abends lautet: Reform des ÖRR und AfD Grundfunkkonzept\nAls Gast werden wir Jens Brockmann\, MdL begrüßen.\n\nAus organisatorischen Gründen steht eine begrenzte Anzahl an Plätzen zur Verfügung. Wir bitten Sie daher\, sich unter info@afd-os.de  oder bei mir anzumelden.\n\nIhr Ortsverband Osnabrück-Stadt!
URL:https://afdosnabrueck.de/veranstaltung/einladung-afd-infoabend-ortsverband-osnabrueck-stadt/
CATEGORIES:Bürgerstammtisch,Vorträge
ATTACH;FMTTYPE=image/jpeg:https://afdosnabrueck.de/wp-content/uploads/2023/07/018-4.-Infoabend.jpg
ORGANIZER;CN="AfD Ortsverband Osnabr%C3%BCck Stadt":MAILTO:info@afd-os.de
END:VEVENT
BEGIN:VEVENT
DTSTART;TZID=Europe/Berlin:20230614T184500
DTEND;TZID=Europe/Berlin:20230614T204500
DTSTAMP:20260421T035350
CREATED:20230606T183112Z
LAST-MODIFIED:20230606T183112Z
UID:14032-1686768300-1686775500@afdosnabrueck.de
SUMMARY:Infoabend AfD Ortsverband Osnabrück-Stadt
DESCRIPTION:Sehr geehrte Mitglieder und Interessierte\,\n\nam 14.06.2023 ab 18.45 Uhr findet unser nächster Infoabend statt.\nDas Thema des Abends lautet: LNG: Kosten\, Umwelt und Profiteure\nAls Gast werden wir Thorsten Moriße MdL begrüßen.\nAus organisatorischen Gründen steht eine begrenzte Anzahl an Plätzen zur Verfügung. Wir bitten Sie daher\, sich unter info@afd-os.de anzumelden. \nIhr Ortsverband Osnabrück-Stadt!
URL:https://afdosnabrueck.de/veranstaltung/infoabend-afd-ortsverband-osnabrueck-stadt/
CATEGORIES:Bürgerstammtisch
ATTACH;FMTTYPE=image/jpeg:https://afdosnabrueck.de/wp-content/uploads/2023/06/013-3.-Infoabend.jpg
ORGANIZER;CN="AfD Ortsverband Osnabr%C3%BCck Stadt":MAILTO:info@afd-os.de
END:VEVENT
BEGIN:VEVENT
DTSTART;TZID=Europe/Berlin:20230602T183000
DTEND;TZID=Europe/Berlin:20230602T213000
DTSTAMP:20260421T035350
CREATED:20230526T060040Z
LAST-MODIFIED:20230524T044930Z
UID:14008-1685730600-1685741400@afdosnabrueck.de
SUMMARY:Stammtisch des Ortsverbandes Osnabrücker Land - Nord
DESCRIPTION:Sehr geehrte Mitglieder\, Förderer und Freunde der AfD! \nAm Freitag\, 02. Juni 2023 findet unser nächster Stammtisch statt. Dieser beginnt um 18:30 Uhr. \nAnmeldepflicht unter: info@afdosnabrueck.de \nNeben dem Vorsitzenden\, Marcel Queckemeyer (Stellvertretender Sprecher für Bundes- und Europaangelegenheiten)\, freuen wir uns\, Dr. Gunnar Beck\, MdEP (Mitglied der Fraktion der Identity & Democracy Party) zum Europapolitischem Dialog im Ortsverband Osnabrücker Land – Nord begrüßen zu dürfen. Gemeinsam mit Ihnen freuen wir uns auf einen spannenden Bericht aus dem Europäischen Parlament\, den Initiativen der ID-Fraktion und der AfD-Delegation. \nAn der Gastwirtschaft stehen zahlreiche Kundenparkplätze zur Verfügung. Über eine rege Teilnahme würden wir uns freuen! \nIhr Vorstand des Ortsverbandes Osnabrücker Land – Nord!
URL:https://afdosnabrueck.de/veranstaltung/stammtisch-des-ortsverbandes-osnabruecker-land-nord-3/
CATEGORIES:Bürgerstammtisch,Öffentliche Veranstaltung
ATTACH;FMTTYPE=image/png:https://afdosnabrueck.de/wp-content/uploads/2023/05/Stammtisch-Beck.png
ORGANIZER;CN="AfD Ortsverband Osnabr%C3%BCcker Land - Nord":MAILTO:info@afdosnabrueck.de
END:VEVENT
BEGIN:VEVENT
DTSTART;TZID=Europe/Berlin:20230427T190000
DTEND;TZID=Europe/Berlin:20230427T210000
DTSTAMP:20260421T035350
CREATED:20230425T140041Z
LAST-MODIFIED:20230424T055416Z
UID:13953-1682622000-1682629200@afdosnabrueck.de
SUMMARY:Stammtisch des AfD Kreisverbandes Osnabrück
DESCRIPTION:Sehr geehrte Mitglieder\, Förderer und Freunde der AfD! \nAm Donnerstag\, 27. April 2023 findet unserer nächster Stammtisch statt. Bitte melden Sie sich an: info@afdosnabrueck.de \nAls Gäste werden neben dem Kreisvorsitzenden Marcel Queckemeyer\, MdL\, der Stellvertretende Landesvorsitzende der AfD Niedersachsen\, Ansgar Schledde\, MdL erwartet. \nAn der Gastwirtschaft stehen zahlreiche Kundenparkplätze für Sie zur Verfügung. Über eine rege Teilnahme würden wir uns sehr freuen. \nIhr Kreisvorstand der AfD Osnabrück!
URL:https://afdosnabrueck.de/veranstaltung/stammtisch-des-afd-kreisverbandes-osnabrueck/
CATEGORIES:Bürgerstammtisch
ATTACH;FMTTYPE=image/png:https://afdosnabrueck.de/wp-content/uploads/2023/04/Stammtisch-GMHütte.png
ORGANIZER;CN="AfD Kreisverband Osnabr%C3%BCck":MAILTO:info@afdosnabrueck.de
END:VEVENT
BEGIN:VEVENT
DTSTART;TZID=Europe/Berlin:20230207T190000
DTEND;TZID=Europe/Berlin:20230207T210000
DTSTAMP:20260421T035350
CREATED:20230203T072007Z
LAST-MODIFIED:20230203T072007Z
UID:13874-1675796400-1675803600@afdosnabrueck.de
SUMMARY:Bericht aus dem Niedersächsischen Landtag
DESCRIPTION:Sehr geehrte Mitglieder\, Förderer und Freunde der AfD! \nAm Dienstag\, 07. Februar 2023 findet unser nächster Stammtisch statt. Bitte melden Sie sich an: info@afdosnabrueck.de \nIhr Wahlkreisabgeordneter Marcel Queckemeyer\, MdL berichtet über seine Arbeit im Niedersächsischen Landtag und gestattet dabei auch Einblicke in die Arbeit der AfD-Fraktion Niedersachsen. \nAn der Gastwirtschaft stehen zahlreiche Kundenparkplätze für Sie zur Verfügung. Über eine rege Teilnahme würden wir uns freuen. \nIhr Ortsvorstand!
URL:https://afdosnabrueck.de/veranstaltung/bericht-aus-dem-niedersaechsischen-landtag/
LOCATION:AfD Ortsverband Osnabrücker Land – Nord\, Bippen\, 49626\, Deutschland
CATEGORIES:Bürgerstammtisch,Öffentliche Veranstaltung
ATTACH;FMTTYPE=image/jpeg:https://afdosnabrueck.de/wp-content/uploads/2023/02/B1D35C37-4749-4CCD-862C-2F5AAB06CB29.jpeg
ORGANIZER;CN="AfD Ortsverband Osnabr%C3%BCcker Land - Nord":MAILTO:info@afdosnabrueck.de
END:VEVENT
BEGIN:VEVENT
DTSTART;TZID=Europe/Berlin:20220911T110000
DTEND;TZID=Europe/Berlin:20220911T170000
DTSTAMP:20260421T035350
CREATED:20220908T152813Z
LAST-MODIFIED:20220908T152813Z
UID:13730-1662894000-1662915600@afdosnabrueck.de
SUMMARY:Flyeraktion Georgsmarienhütte
DESCRIPTION:Flyeraktion in Georgsmarienhütte – wir benötigen Ihre Unterstützung! \nWo: Rathausplatz Georgsmarienhütte\nWann: Sonntag\, 11.09.2022 um 11:00 Uhr
URL:https://afdosnabrueck.de/veranstaltung/flyeraktion-georgsmarienhuette/
LOCATION:Rathausplatz Georgsmarienhütte\, Georgsmarienhütte\, 49124\, Deutschland
CATEGORIES:Öffentliche Veranstaltung
ATTACH;FMTTYPE=image/png:https://afdosnabrueck.de/wp-content/uploads/2022/09/90522DFE-11C0-4035-81C8-D90DF744CE9E.png
ORGANIZER;CN="AfD Kreisverband Osnabr%C3%BCck":MAILTO:info@afdosnabrueck.de
END:VEVENT
BEGIN:VEVENT
DTSTART;TZID=Europe/Berlin:20220910T100000
DTEND;TZID=Europe/Berlin:20220910T130000
DTSTAMP:20260421T035350
CREATED:20220908T152138Z
LAST-MODIFIED:20220908T152138Z
UID:13726-1662804000-1662814800@afdosnabrueck.de
SUMMARY:Infostand der AfD Osnabrück!
DESCRIPTION:Die AfD kommt nach Belm! \nAm Samstag\, 10. September 2022 steht Ihnen der Landtagskandidat Bodo Suhren ab 10:00 Uhr auf dem Belmer Marktplatz zur Verfügung! \n\nWofür steht die AfD?\nWas möchte die AfD für Sie in der Region ändern?\nWas hat die AfD in der Region bisher geleistet?\n\nWir freuen uns auf Ihren Besuch und interessante Gespräche. Bereits jetzt können Sie unser Wahlprogramm zur Landtagswahl online hier einsehen.
URL:https://afdosnabrueck.de/veranstaltung/infostand-der-afd-osnabrueck-2/
LOCATION:Marktplatz Belm\, Belm\, 49191\, Deutschland
CATEGORIES:Öffentliche Veranstaltung
ATTACH;FMTTYPE=image/jpeg:https://afdosnabrueck.de/wp-content/uploads/2022/09/5B4D8D5E-427D-4F83-BB17-40466D50F835.jpeg
ORGANIZER;CN="AfD Kreisverband Osnabr%C3%BCck":MAILTO:info@afdosnabrueck.de
END:VEVENT
BEGIN:VEVENT
DTSTART;TZID=Europe/Berlin:20220910T100000
DTEND;TZID=Europe/Berlin:20220910T130000
DTSTAMP:20260421T035350
CREATED:20220817T080051Z
LAST-MODIFIED:20220908T151853Z
UID:13675-1662804000-1662814800@afdosnabrueck.de
SUMMARY:Infostand der AfD Osnabrück
DESCRIPTION:Die AfD kommt nach Bersenbrück! \nAm Samstag\, 10. September 2022 steht Ihnen der Landtagskandidat Marcel Queckemeyer ab 10:00 Uhr auf dem Bersenbrücker Marktplatz zur Verfügung! \n\nWofür steht die AfD?\nWas möchte die AfD für Sie in der Region ändern?\nWas hat die AfD in der Region bisher geleistet?\n\nWir freuen uns auf Ihren Besuch und interessante Gespräche. Bereits jetzt können Sie unser Wahlprogramm zur Landtagswahl online hier einsehen.
URL:https://afdosnabrueck.de/veranstaltung/infostand-der-afd-osnabrueck/
LOCATION:Marktplatz Bersenbrück\, Bersenbrück\, 49593
CATEGORIES:Öffentliche Veranstaltung
ATTACH;FMTTYPE=image/jpeg:https://afdosnabrueck.de/wp-content/uploads/2022/08/373321B9-23A5-48E2-A7B1-0BD72A57DE6F.jpeg
ORGANIZER;CN="AfD Kreisverband Osnabr%C3%BCck":MAILTO:info@afdosnabrueck.de
END:VEVENT
BEGIN:VEVENT
DTSTART;TZID=Europe/Berlin:20220902T190000
DTEND;TZID=Europe/Berlin:20220902T220000
DTSTAMP:20260421T035350
CREATED:20220824T124256Z
LAST-MODIFIED:20220824T124256Z
UID:13694-1662145200-1662156000@afdosnabrueck.de
SUMMARY:Auftaktveranstaltung der AfD Osnabrück
DESCRIPTION:  Klartext für Niedersachsen – Auftaktveranstaltung der AfD Osnabrück\n\n\n\nAm 02. September 2022 um 19:00 geht der Wahlkampf in die nächste Runde!\n\n\nSeid dabei wenn Guido Reil\, MdEP\, Stephan Bothe MdL\, Peer Lilienthal\, MdL und Marcel Queckemeyer  (Listenkandidat) Klartext sprechen und in Norden des Landkreises Osnabrück einladen und sich dort den Fragen der interessierten Wähler und Bürger stellen!\n\n\n\n Hinweis:\nEine Teilnahme ist nur nach vorheriger Anmeldung unter info@afdosnabrueck.de möglich.\n\n\n\n\n 
URL:https://afdosnabrueck.de/veranstaltung/auftaktveranstaltung-der-afd-osnabrueck/
CATEGORIES:Öffentliche Veranstaltung
ATTACH;FMTTYPE=image/png:https://afdosnabrueck.de/wp-content/uploads/2022/08/WKOS.png
ORGANIZER;CN="AfD Kreisverband Osnabr%C3%BCck":MAILTO:info@afdosnabrueck.de
END:VEVENT
BEGIN:VEVENT
DTSTART;TZID=Europe/Berlin:20220827T100000
DTEND;TZID=Europe/Berlin:20220827T140000
DTSTAMP:20260421T035350
CREATED:20220824T124814Z
LAST-MODIFIED:20220824T124814Z
UID:13697-1661594400-1661608800@afdosnabrueck.de
SUMMARY:Infostand der AfD & JA in Bersenbrück
DESCRIPTION:AfD und JA kommen nach Bersenbrück! \nAm Samstag\, 27. August 2022 stehen Ihnen der Landtagskandidat Marcel Queckemeyer und der stellv. Landesvorsitzende der Jungen Alternative Niedersachsen\, Adrian Maxhuni\, ab 10:00 Uhr auf dem Marktplatz in Quakenbrück zur Verfügung! \n\nWofür steht die AfD?\nWas möchte die AfD für Sie in der Region ändern?\nWas hat die AfD in der Region bisher geleistet?\n\nWir freuen uns auf Ihren Besuch und interessante Gespräche. Bereits jetzt können Sie unser Wahlprogramm zur Landtagswahl online hier einsehen.
URL:https://afdosnabrueck.de/veranstaltung/infostand-der-afd-ja-in-bersenbrueck/
LOCATION:Marktplatz Bersenbrück\, Bersenbrück\, 49593
CATEGORIES:Öffentliche Veranstaltung
ATTACH;FMTTYPE=image/png:https://afdosnabrueck.de/wp-content/uploads/2022/08/Infostand-KV-Bersenbrück.png
ORGANIZER;CN="AfD Kreisverband Osnabr%C3%BCck":MAILTO:info@afdosnabrueck.de
END:VEVENT
BEGIN:VEVENT
DTSTART;TZID=Europe/Berlin:20220820T100000
DTEND;TZID=Europe/Berlin:20220820T130000
DTSTAMP:20260421T035350
CREATED:20220818T133446Z
LAST-MODIFIED:20220818T133446Z
UID:13684-1660989600-1661000400@afdosnabrueck.de
SUMMARY:Infostand der AfD & JA in Quakenbrück
DESCRIPTION:AfD und JA kommen ins Artland! \nAm Freitag\, 20. August 2022 stehen Ihnen der Landtagskandidat Marcel Queckemeyer und der stellv. Landesvorsitzende der Jungen Alternative Niedersachsen\, Adrian Maxhuni\, ab 10:00 Uhr auf dem Marktplatz in Quakenbrück zur Verfügung! \n\nWofür steht die AfD?\nWas möchte die AfD für Sie in der Region ändern?\nWas hat die AfD in der Region bisher geleistet?\n\nWir freuen uns auf Ihren Besuch und interessante Gespräche. Bereits jetzt können Sie unser Wahlprogramm zur Landtagswahl online hier einsehen.
URL:https://afdosnabrueck.de/veranstaltung/infostand-der-afd-ja-in-quakenbrueck/
LOCATION:Marktplatz Quakenbrück\, Quakenbrück\, 49610\, Deutschland
CATEGORIES:Öffentliche Veranstaltung
ATTACH;FMTTYPE=image/png:https://afdosnabrueck.de/wp-content/uploads/2022/08/Infostand-KV-Artland.png
ORGANIZER;CN="AfD Kreisverband Osnabr%C3%BCck":MAILTO:info@afdosnabrueck.de
END:VEVENT
BEGIN:VEVENT
DTSTART;TZID=Europe/Berlin:20220805T180000
DTEND;TZID=Europe/Berlin:20220805T210000
DTSTAMP:20260421T035350
CREATED:20220801T065803Z
LAST-MODIFIED:20220801T065803Z
UID:13658-1659722400-1659733200@afdosnabrueck.de
SUMMARY:Stammtisch des Ortsverbandes Osnabrücker Land - Nord
DESCRIPTION:Sehr geehrte Mitglieder\, Förderer und Freunde der AfD! \nAm Freitag\, 05. August 2022 findet unser nächster Stammtisch statt. Bitte melden Sie sich an: info@afdosnabrueck.de \nDer Abend läuft unter dem Motto „Gesundheit und Corona„. Als Gäste werden neben dem Vorsitzenden Marcel Queckemeyer (Kandidat zur Landtagswahl)\, der Corona- und Gesundheitsexperte Martin Sichert\, MdB erwartet. \nAn der Gastwirtschaft stehen zahlreiche Kundenparkplätze für Sie zur Verfügung. Über eine rege Teilnahme würden wir uns freuen. \nIhr Ortsvorstand!
URL:https://afdosnabrueck.de/veranstaltung/stammtisch-des-ortsverbandes-osnabruecker-land-nord-2/
LOCATION:AfD Ortsverband Osnabrücker Land – Nord\, Bippen\, 49626\, Deutschland
CATEGORIES:Bürgerstammtisch
ATTACH;FMTTYPE=image/png:https://afdosnabrueck.de/wp-content/uploads/2022/08/Stammtisch-Nord-II.png
ORGANIZER;CN="AfD Ortsverband Osnabr%C3%BCcker Land - Nord":MAILTO:info@afdosnabrueck.de
END:VEVENT
BEGIN:VEVENT
DTSTART;TZID=Europe/Berlin:20220708T190000
DTEND;TZID=Europe/Berlin:20220708T210000
DTSTAMP:20260421T035350
CREATED:20220706T060015Z
LAST-MODIFIED:20220706T083027Z
UID:13620-1657306800-1657314000@afdosnabrueck.de
SUMMARY:Stammtisch des Ortsverbandes Osnabrücker Land - Nord
DESCRIPTION:Sehr geehrte Mitglieder\, Förderer und Freunde der AfD! \nAm Freitag\, 08. Juli 2022 findet unserer nächster Stammtisch statt. Bitte melden Sie sich an: info@afdosnabrueck.de \nDer Abend läuft unter dem Motto: „Regionales und die Landtagswahl“. Als Gäste werden neben dem Vorsitzenden Marcel Queckemeyer (Kandidat zur Landtagswahl)\, der Fürstenauer Ratsherr Sascha Schrader und der Fraktionsvorsitzende der AfD-Fraktion im Rat der Samtgemeinde Bersenbrück Adrian Maxhuni zugegen sein. Gemeinsam mit Ihnen möchten wir den Auftakt zur kommenden Landtagswahl starten und darüber diskutieren\, welche Auswirkungen regionale Veränderungen mit sich bringen. Wie bewertet die AfD die Straßenausbaubeiträge\, den Stopp der Sanierung des Freibades Fürstenau oder die geplante Ortsumgehung in Ankum? \nAn der Gastwirtschaft stehen zahlreiche Kundenparkplätze für Sie zur Verfügung. Über eine rege Teilnahme würden wir uns sehr freuen. \nIhr Ortsvorstand!
URL:https://afdosnabrueck.de/veranstaltung/stammtisch-des-ortsverbandes-osnabruecker-land-nord/
CATEGORIES:Bürgerstammtisch
ATTACH;FMTTYPE=image/png:https://afdosnabrueck.de/wp-content/uploads/2022/06/Stammtisch-Nord-I.png
ORGANIZER;CN="AfD Ortsverband Osnabr%C3%BCcker Land - Nord":MAILTO:info@afdosnabrueck.de
END:VEVENT
BEGIN:VEVENT
DTSTART;TZID=Europe/Berlin:20220423T160000
DTEND;TZID=Europe/Berlin:20220423T170000
DTSTAMP:20260421T035350
CREATED:20220414T080717Z
LAST-MODIFIED:20220414T080717Z
UID:13519-1650729600-1650733200@afdosnabrueck.de
SUMMARY:1. Hauptversammlung des AfD Ortsverbandes Osnabrücker Land - Nord
DESCRIPTION:Die 1. Hauptversammlung des Ortsverbandes Osnabrücker Land – Nord findet am Samstag\, 23. April 2022 um 16:00 Uhr (Einlass ab 15:45 Uhr) in 49626 Bippen–Vechtel statt.Vorläufige Tagesordnung:  \n\nBegrüßung und Eröffnung durch den Ortsvorsitzenden\nFeststellung der ordnungsgemäßen Ladung und der Beschlussfähigkeit\nGrußworte von Vertretern übergeordneter Vorstände\nWahl der Versammlungsleitung\nWahl des Protokollführers\nWahl der Zählkommission und der Mandatsprüfungskommission\nBeratung und Feststellung der Tagesordnung\nTätigkeitsbericht des Ortsvorstandes\nÄnderungsanträge zur Ortssatzung\nSachanträge\nSchlusswort des Ortsvorsitzenden\nSingen der Nationalhymne \n \n\nGäste werden gebeten\, sich anzumelden.
URL:https://afdosnabrueck.de/veranstaltung/1-hauptversammlung-des-afd-ortsverbandes-osnabruecker-land-nord/
LOCATION:AfD Ortsverband Osnabrücker Land – Nord\, Bippen\, 49626\, Deutschland
CATEGORIES:Presseeinladungen
ATTACH;FMTTYPE=image/jpeg:https://afdosnabrueck.de/wp-content/uploads/2022/01/B855834E-C763-414E-A52C-337A2BEF067B.jpeg
ORGANIZER;CN="AfD Ortsverband Osnabr%C3%BCcker Land - Nord":MAILTO:info@afdosnabrueck.de
END:VEVENT
BEGIN:VEVENT
DTSTART;TZID=Europe/Berlin:20220320T100000
DTEND;TZID=Europe/Berlin:20220320T140000
DTSTAMP:20260421T035350
CREATED:20220316T132722Z
LAST-MODIFIED:20220316T132722Z
UID:13473-1647770400-1647784800@afdosnabrueck.de
SUMMARY:Müllsammel-Aktion des OV Belm-Wallenhorst
DESCRIPTION:Der AfD Ortsverband Belm-Wallenhorst führt am kommenden Sonntag\, den 20.03.2022 ab 10:00 Uhr die erste Clean-UP Aktion durch. \nMaterial (Greifer\, Handschuhe und Müllsäcke) werden gestellt.
URL:https://afdosnabrueck.de/veranstaltung/muellsammel-aktion-des-ov-belm-wallenhorst/
LOCATION:AfD Ortsverband Belm-Wallenhorst\, Farnbrink 6\, Belm\, 49191\, Deutschland
ATTACH;FMTTYPE=image/jpeg:https://afdosnabrueck.de/wp-content/uploads/2022/01/B855834E-C763-414E-A52C-337A2BEF067B.jpeg
END:VEVENT
BEGIN:VEVENT
DTSTART;TZID=Europe/Berlin:20220119T180000
DTEND;TZID=Europe/Berlin:20220119T200000
DTSTAMP:20260421T035350
CREATED:20220117T103659Z
LAST-MODIFIED:20220117T103659Z
UID:13398-1642615200-1642622400@afdosnabrueck.de
SUMMARY:Mahnwache vor dem Rathaus in Osnabrück
DESCRIPTION:Die AfD-Kreistagsfraktion Osnabrück veranstaltet am kommenden Mittwoch\, dem 19.1.2022 eine Mahnwache für die Freiheit vor dem Rathaus in Osnabrück. \nGemeinsam wollen wir erneut ein starkes Signal senden\, für die Freiheit\, für den Erhalt unserer Grundrechte\, gegen einen Impfzwang und andere wahnwitzige Zwangsmaßnahmen der Altparteien im Zuge der Corona-Pandemie. \nBegleitet wird die Mahnwache vom Kreisvorstand der AfD Osnabrück sowie von einem Landtagsabgeordnetem der niedersächsischen AfD. \n 
URL:https://afdosnabrueck.de/veranstaltung/mahnwache-vor-dem-rathaus-in-osnabrueck/
LOCATION:Mahnwache vor dem Osnabrücker Rathaus\, Markt 30\, Osnabrück\, 49074
CATEGORIES:Kundgebungen,Öffentliche Veranstaltung
ATTACH;FMTTYPE=image/jpeg:https://afdosnabrueck.de/wp-content/uploads/2022/01/564D92A9-4834-4B9B-AF2F-D51E45D021D2.jpeg
END:VEVENT
END:VCALENDAR